BEGIN:VCALENDAR
VERSION:2.0
PRODID:Events Booking
BEGIN:VEVENT
UID:69e4e36530519
SUMMARY:Open Breukelse Tournament
DESCRIPTION:
LOCATION:Broekdijk Oost 28\, 3621 LN Breukelen
DTSTART:20241012T080000Z
DTSTAMP:20260419T161501Z
ORGANIZER;CN=Nunchaku Registratie:MAILTO:info@nunchaku-registratie.nl
GEO:52.16386;4.9991
X-APPLE-STRUCTURED-LOCATION;VALUE=URI;X-ADDRESS=Broekdijk Oost 28\, 3621 LN
  Breukelen;X-APPLE-RADIUS=72;X-TITLE=Stinzenhal:52.16386;4.9991
END:VEVENT
END:VCALENDAR